BEGIN:VCALENDAR
VERSION:2.0
PRODID:-//Nicole&#039;s Vegas - ECPv6.15.17.1//NONSGML v1.0//EN
CALSCALE:GREGORIAN
METHOD:PUBLISH
X-WR-CALNAME:Nicole&#039;s Vegas
X-ORIGINAL-URL:https://nicolesvegas.com
X-WR-CALDESC:Events for Nicole&#039;s Vegas
REFRESH-INTERVAL;VALUE=DURATION:PT1H
X-Robots-Tag:noindex
X-PUBLISHED-TTL:PT1H
BEGIN:VTIMEZONE
TZID:America/Los_Angeles
BEGIN:DAYLIGHT
TZOFFSETFROM:-0800
TZOFFSETTO:-0700
TZNAME:PDT
DTSTART:20250309T100000
END:DAYLIGHT
BEGIN:STANDARD
TZOFFSETFROM:-0700
TZOFFSETTO:-0800
TZNAME:PST
DTSTART:20251102T090000
END:STANDARD
BEGIN:DAYLIGHT
TZOFFSETFROM:-0800
TZOFFSETTO:-0700
TZNAME:PDT
DTSTART:20260308T100000
END:DAYLIGHT
BEGIN:STANDARD
TZOFFSETFROM:-0700
TZOFFSETTO:-0800
TZNAME:PST
DTSTART:20261101T090000
END:STANDARD
BEGIN:DAYLIGHT
TZOFFSETFROM:-0800
TZOFFSETTO:-0700
TZNAME:PDT
DTSTART:20270314T100000
END:DAYLIGHT
BEGIN:STANDARD
TZOFFSETFROM:-0700
TZOFFSETTO:-0800
TZNAME:PST
DTSTART:20271107T090000
END:STANDARD
END:VTIMEZONE
BEGIN:VEVENT
DTSTART;TZID=America/Los_Angeles:20260228T210000
DTEND;TZID=America/Los_Angeles:20260301T020000
DTSTAMP:20260421T052218
CREATED:20260227T113255Z
LAST-MODIFIED:20260227T113258Z
UID:23791-1772312400-1772330400@nicolesvegas.com
SUMMARY:NICOLE'S FLIRTSLV'S SATURDAY NIGHT PARTY FOR COUPLES & FEMALES
DESCRIPTION:Your Adult Playground \n\n\n\nNicole’s FlirtsLV Welcomes You To Our Upscale Private Night Parties Every Friday And Saturday. \n\n\n\nWe Allow Couples And Single Females Only At This Time.  \n\n\n\nWe encourage you to dress to impress and bring your upbeat attitude to mix\, mingle and indulge with other like-minded individuals.  \n\n\n\n We recommend guests must make a reservation to attend through our website \n\n\n\n( www.FlirtsLV.com & www.NicolesVegas.com) \n\n\n\nWalk-Ins will be allowed 9pm-Midnight  \n\n\n\nNO on Street Parking is Permitted. \n\n\n\nDoors open at 8 pm\, but you must arrive no later than midnight. NO EXCEPTIONS \n\n\n\n Max Capacity for our party is 100 guests. We will run out of Parking so please make your reservations in advance. Reservations stop when the party guest list is full or at 11 pm. NO Reservations AFTER 11 pm. \n\n\n\n We will have Free Mixers for Your BYOB.  \n\n\n\n We Have Night Party Flyers All Over So Don’t Worry If You See Limited Guests On The List Here. You Will Not Be The Only One There. \n\n\n\n Don’t Forget To Check Out Our Profile\, Events Page\, Or  \n\n\n\nFlirtsLV.com for All Our Other Events and FAQ \n\n\n\nPlayrooms Open 9pm-2am \n\n\n\nLatest Arrival Midnight \n\n\n\nSuggested Donation  \n\n\n\n$70 Couple \n\n\n\n$50 VIP Couple  \n\n\n\n$0 Single Females
URL:https://nicolesvegas.com/event/nicoles-flirtslvs-saturday-night-party-for-couples-females/
ATTACH;FMTTYPE=image/png:https://nicolesvegas.com/wp-content/uploads/2026/02/sat.png
END:VEVENT
END:VCALENDAR